BEGIN:VCALENDAR
VERSION:2.0
PRODID:icalendar-ruby
CALSCALE:GREGORIAN
METHOD:PUBLISH
BEGIN:VEVENT
DTSTAMP:20260421T122019Z
UID:153-1566394@hopecc.ca
DTSTART:20260918T153000Z
DTEND:20260918T163000Z
CLASS:PUBLIC
CREATED:20260421T065206
DESCRIPTION:Highschool hang out at Hope Church from 11:30-12:30. Snacks\, p
 ool table\, hang out in the foyer for students to eat their lunch together
 \, lounge\, chill and connect. \nSpread the word and invite your friends!
  Each Friday except PD Days and Holidays.
LAST-MODIFIED:20260421T065206
LOCATION:Hope Community Church
SUMMARY:Lunch and Lounge
URL;VALUE=URI:https://www.hopecc.ca/events/lunch-and-lounge/2026-09-18
ATTACH;FILENAME=IMG_6587.jpeg;FMTTYPE=image/jpeg:https://dq5pwpg1q8ru0.clou
 dfront.net/2026/01/13/01/18/35/0949f927-271b-44f1-a051-0d001458c812/IMG_65
 87.jpeg
END:VEVENT
END:VCALENDAR
